BEGIN:VCALENDAR
VERSION:2.0
PRODID:-//Linton Village Hall - ECPv6.15.20//NONSGML v1.0//EN
CALSCALE:GREGORIAN
METHOD:PUBLISH
X-ORIGINAL-URL:https://www.lintonvillagehall.com
X-WR-CALDESC:Events for Linton Village Hall
REFRESH-INTERVAL;VALUE=DURATION:PT1H
X-Robots-Tag:noindex
X-PUBLISHED-TTL:PT1H
BEGIN:VTIMEZONE
TZID:UTC
BEGIN:STANDARD
TZOFFSETFROM:+0000
TZOFFSETTO:+0000
TZNAME:UTC
DTSTART:20240101T000000
END:STANDARD
END:VTIMEZONE
BEGIN:VEVENT
DTSTART;TZID=UTC:20250425T193000
DTEND;TZID=UTC:20250425T223000
DTSTAMP:20260421T181403
CREATED:20250320T084320Z
LAST-MODIFIED:20250320T084322Z
UID:10003216-1745609400-1745620200@www.lintonvillagehall.com
SUMMARY:Charity Cash Bingo
DESCRIPTION:Come along for a great cash bingo night. Age 18 and over.
URL:https://www.lintonvillagehall.com/event/charity-cash-bingo/
LOCATION:Linton Village Hall\, Linton Village HallWinchester Drive\, Swadlincote\, Derbyshire\, DE12 6PW\, United Kingdom
CATEGORIES:Community Event
ATTACH;FMTTYPE=image/jpeg:https://www.lintonvillagehall.com/wp-content/uploads/2025/03/IMG_4464-scaled.jpeg
END:VEVENT
END:VCALENDAR