BEGIN:VCALENDAR
VERSION:2.0
PRODID:-//Linton Village Hall - ECPv6.15.20//NONSGML v1.0//EN
CALSCALE:GREGORIAN
METHOD:PUBLISH
X-WR-CALNAME:Linton Village Hall
X-ORIGINAL-URL:https://www.lintonvillagehall.com
X-WR-CALDESC:Events for Linton Village Hall
REFRESH-INTERVAL;VALUE=DURATION:PT1H
X-Robots-Tag:noindex
X-PUBLISHED-TTL:PT1H
BEGIN:VTIMEZONE
TZID:UTC
BEGIN:STANDARD
TZOFFSETFROM:+0000
TZOFFSETTO:+0000
TZNAME:UTC
DTSTART:20290101T000000
END:STANDARD
END:VTIMEZONE
BEGIN:VEVENT
DTSTART;TZID=UTC:20300606T170000
DTEND;TZID=UTC:20300606T210000
DTSTAMP:20260423T030218
CREATED:20201105T095546Z
LAST-MODIFIED:20250718T102242Z
UID:10003811-1906995600-1907010000@www.lintonvillagehall.com
SUMMARY:Linton Amateur Dramatic Association
DESCRIPTION:Linton Amateur Dramatic Association (LADA) is a community amateur dramatic group. Comprising of members from the local community we aim to provide local access to drama and theatre in a regular basis and enable the local community to be involved\, either through delivering performances or by enjoying the shows as an audience member. \nThe group delivers two productions a year which includes a Panto in December and a summer production. \nWe meet weekly on a Thursday 7.00-9.00pm to rehearse and create the sets. There are a few dress rehearsals held on the Thursday and Fridays nearer the show dates. Full details are available at www.lintondrama.com or by calling Alison on 07966679585
URL:https://www.lintonvillagehall.com/event/linton-amateur-dramatic-association/2030-06-06/
CATEGORIES:Amateur Dramatics
ATTACH;FMTTYPE=image/jpeg:https://www.lintonvillagehall.com/wp-content/uploads/2020/10/LADALogo1.jpg
END:VEVENT
BEGIN:VEVENT
DTSTART;TZID=UTC:20300613T170000
DTEND;TZID=UTC:20300613T210000
DTSTAMP:20260423T030218
CREATED:20201105T095546Z
LAST-MODIFIED:20250718T102242Z
UID:10003812-1907600400-1907614800@www.lintonvillagehall.com
SUMMARY:Linton Amateur Dramatic Association
DESCRIPTION:Linton Amateur Dramatic Association (LADA) is a community amateur dramatic group. Comprising of members from the local community we aim to provide local access to drama and theatre in a regular basis and enable the local community to be involved\, either through delivering performances or by enjoying the shows as an audience member. \nThe group delivers two productions a year which includes a Panto in December and a summer production. \nWe meet weekly on a Thursday 7.00-9.00pm to rehearse and create the sets. There are a few dress rehearsals held on the Thursday and Fridays nearer the show dates. Full details are available at www.lintondrama.com or by calling Alison on 07966679585
URL:https://www.lintonvillagehall.com/event/linton-amateur-dramatic-association/2030-06-13/
CATEGORIES:Amateur Dramatics
ATTACH;FMTTYPE=image/jpeg:https://www.lintonvillagehall.com/wp-content/uploads/2020/10/LADALogo1.jpg
END:VEVENT
BEGIN:VEVENT
DTSTART;TZID=UTC:20300620T170000
DTEND;TZID=UTC:20300620T210000
DTSTAMP:20260423T030218
CREATED:20201105T095546Z
LAST-MODIFIED:20250718T102242Z
UID:10003813-1908205200-1908219600@www.lintonvillagehall.com
SUMMARY:Linton Amateur Dramatic Association
DESCRIPTION:Linton Amateur Dramatic Association (LADA) is a community amateur dramatic group. Comprising of members from the local community we aim to provide local access to drama and theatre in a regular basis and enable the local community to be involved\, either through delivering performances or by enjoying the shows as an audience member. \nThe group delivers two productions a year which includes a Panto in December and a summer production. \nWe meet weekly on a Thursday 7.00-9.00pm to rehearse and create the sets. There are a few dress rehearsals held on the Thursday and Fridays nearer the show dates. Full details are available at www.lintondrama.com or by calling Alison on 07966679585
URL:https://www.lintonvillagehall.com/event/linton-amateur-dramatic-association/2030-06-20/
CATEGORIES:Amateur Dramatics
ATTACH;FMTTYPE=image/jpeg:https://www.lintonvillagehall.com/wp-content/uploads/2020/10/LADALogo1.jpg
END:VEVENT
BEGIN:VEVENT
DTSTART;TZID=UTC:20300627T170000
DTEND;TZID=UTC:20300627T210000
DTSTAMP:20260423T030218
CREATED:20201105T095546Z
LAST-MODIFIED:20250718T102242Z
UID:10003814-1908810000-1908824400@www.lintonvillagehall.com
SUMMARY:Linton Amateur Dramatic Association
DESCRIPTION:Linton Amateur Dramatic Association (LADA) is a community amateur dramatic group. Comprising of members from the local community we aim to provide local access to drama and theatre in a regular basis and enable the local community to be involved\, either through delivering performances or by enjoying the shows as an audience member. \nThe group delivers two productions a year which includes a Panto in December and a summer production. \nWe meet weekly on a Thursday 7.00-9.00pm to rehearse and create the sets. There are a few dress rehearsals held on the Thursday and Fridays nearer the show dates. Full details are available at www.lintondrama.com or by calling Alison on 07966679585
URL:https://www.lintonvillagehall.com/event/linton-amateur-dramatic-association/2030-06-27/
CATEGORIES:Amateur Dramatics
ATTACH;FMTTYPE=image/jpeg:https://www.lintonvillagehall.com/wp-content/uploads/2020/10/LADALogo1.jpg
END:VEVENT
BEGIN:VEVENT
DTSTART;TZID=UTC:20300704T170000
DTEND;TZID=UTC:20300704T210000
DTSTAMP:20260423T030218
CREATED:20201105T095546Z
LAST-MODIFIED:20250718T102242Z
UID:10003815-1909414800-1909429200@www.lintonvillagehall.com
SUMMARY:Linton Amateur Dramatic Association
DESCRIPTION:Linton Amateur Dramatic Association (LADA) is a community amateur dramatic group. Comprising of members from the local community we aim to provide local access to drama and theatre in a regular basis and enable the local community to be involved\, either through delivering performances or by enjoying the shows as an audience member. \nThe group delivers two productions a year which includes a Panto in December and a summer production. \nWe meet weekly on a Thursday 7.00-9.00pm to rehearse and create the sets. There are a few dress rehearsals held on the Thursday and Fridays nearer the show dates. Full details are available at www.lintondrama.com or by calling Alison on 07966679585
URL:https://www.lintonvillagehall.com/event/linton-amateur-dramatic-association/2030-07-04/
CATEGORIES:Amateur Dramatics
ATTACH;FMTTYPE=image/jpeg:https://www.lintonvillagehall.com/wp-content/uploads/2020/10/LADALogo1.jpg
END:VEVENT
BEGIN:VEVENT
DTSTART;TZID=UTC:20300711T170000
DTEND;TZID=UTC:20300711T210000
DTSTAMP:20260423T030218
CREATED:20201105T095546Z
LAST-MODIFIED:20250718T102242Z
UID:10003816-1910019600-1910034000@www.lintonvillagehall.com
SUMMARY:Linton Amateur Dramatic Association
DESCRIPTION:Linton Amateur Dramatic Association (LADA) is a community amateur dramatic group. Comprising of members from the local community we aim to provide local access to drama and theatre in a regular basis and enable the local community to be involved\, either through delivering performances or by enjoying the shows as an audience member. \nThe group delivers two productions a year which includes a Panto in December and a summer production. \nWe meet weekly on a Thursday 7.00-9.00pm to rehearse and create the sets. There are a few dress rehearsals held on the Thursday and Fridays nearer the show dates. Full details are available at www.lintondrama.com or by calling Alison on 07966679585
URL:https://www.lintonvillagehall.com/event/linton-amateur-dramatic-association/2030-07-11/
CATEGORIES:Amateur Dramatics
ATTACH;FMTTYPE=image/jpeg:https://www.lintonvillagehall.com/wp-content/uploads/2020/10/LADALogo1.jpg
END:VEVENT
BEGIN:VEVENT
DTSTART;TZID=UTC:20300718T170000
DTEND;TZID=UTC:20300718T210000
DTSTAMP:20260423T030218
CREATED:20201105T095546Z
LAST-MODIFIED:20250718T102242Z
UID:10003817-1910624400-1910638800@www.lintonvillagehall.com
SUMMARY:Linton Amateur Dramatic Association
DESCRIPTION:Linton Amateur Dramatic Association (LADA) is a community amateur dramatic group. Comprising of members from the local community we aim to provide local access to drama and theatre in a regular basis and enable the local community to be involved\, either through delivering performances or by enjoying the shows as an audience member. \nThe group delivers two productions a year which includes a Panto in December and a summer production. \nWe meet weekly on a Thursday 7.00-9.00pm to rehearse and create the sets. There are a few dress rehearsals held on the Thursday and Fridays nearer the show dates. Full details are available at www.lintondrama.com or by calling Alison on 07966679585
URL:https://www.lintonvillagehall.com/event/linton-amateur-dramatic-association/2030-07-18/
CATEGORIES:Amateur Dramatics
ATTACH;FMTTYPE=image/jpeg:https://www.lintonvillagehall.com/wp-content/uploads/2020/10/LADALogo1.jpg
END:VEVENT
END:VCALENDAR