BEGIN:VCALENDAR
VERSION:2.0
PRODID:-//Linton Village Hall - ECPv6.15.20//NONSGML v1.0//EN
CALSCALE:GREGORIAN
METHOD:PUBLISH
X-ORIGINAL-URL:https://www.lintonvillagehall.com
X-WR-CALDESC:Events for Linton Village Hall
REFRESH-INTERVAL;VALUE=DURATION:PT1H
X-Robots-Tag:noindex
X-PUBLISHED-TTL:PT1H
BEGIN:VTIMEZONE
TZID:UTC
BEGIN:STANDARD
TZOFFSETFROM:+0000
TZOFFSETTO:+0000
TZNAME:UTC
DTSTART:20240101T000000
END:STANDARD
END:VTIMEZONE
BEGIN:VEVENT
DTSTART;TZID=UTC:20250323T100000
DTEND;TZID=UTC:20250323T143000
DTSTAMP:20260421T213859
CREATED:20250113T115841Z
LAST-MODIFIED:20250113T115841Z
UID:10003104-1742724000-1742740200@www.lintonvillagehall.com
SUMMARY:Private Hire
DESCRIPTION:
URL:https://www.lintonvillagehall.com/event/private-hire-174/
END:VEVENT
END:VCALENDAR