BEGIN:VCALENDAR
VERSION:2.0
PRODID:-//Linton Village Hall - ECPv6.15.20//NONSGML v1.0//EN
CALSCALE:GREGORIAN
METHOD:PUBLISH
X-ORIGINAL-URL:https://www.lintonvillagehall.com
X-WR-CALDESC:Events for Linton Village Hall
REFRESH-INTERVAL;VALUE=DURATION:PT1H
X-Robots-Tag:noindex
X-PUBLISHED-TTL:PT1H
BEGIN:VTIMEZONE
TZID:UTC
BEGIN:STANDARD
TZOFFSETFROM:+0000
TZOFFSETTO:+0000
TZNAME:UTC
DTSTART:20230101T000000
END:STANDARD
END:VTIMEZONE
BEGIN:VEVENT
DTSTART;TZID=UTC:20241214T100000
DTEND;TZID=UTC:20241214T150000
DTSTAMP:20260420T182341
CREATED:20240308T101351Z
LAST-MODIFIED:20240308T101351Z
UID:10002992-1734170400-1734188400@www.lintonvillagehall.com
SUMMARY:Craft Fayre 10am-2pm
DESCRIPTION:
URL:https://www.lintonvillagehall.com/event/craft-fayre-10am-2pm/2024-12-14/
ATTACH;FMTTYPE=image/jpeg:https://www.lintonvillagehall.com/wp-content/uploads/2024/03/fayre-24.jpg
ORGANIZER;CN="Linton Village Hall":MAILTO:villagehall.linton@gmail.com
END:VEVENT
BEGIN:VEVENT
DTSTART;TZID=UTC:20241214T173000
DTEND;TZID=UTC:20241214T233000
DTSTAMP:20260420T182341
CREATED:20240308T104335Z
LAST-MODIFIED:20240308T104335Z
UID:10003017-1734197400-1734219000@www.lintonvillagehall.com
SUMMARY:Private Hire
DESCRIPTION:
URL:https://www.lintonvillagehall.com/event/private-hire-147/
END:VEVENT
END:VCALENDAR